BEGIN:VCALENDAR
VERSION:2.0
PRODID:icalendar-ruby
CALSCALE:GREGORIAN
METHOD:PUBLISH
BEGIN:VEVENT
DTSTAMP:20260422T011642Z
UID:38-733316@willow-springs.org
DTSTART:20261029T020000Z
DTEND:20261029T030000Z
CLASS:PUBLIC
CREATED:20260421T173632
DESCRIPTION:A time of encouragement\, strengthening and support as we seek 
 to follow The LORD and lead our families.
LAST-MODIFIED:20260421T173632
LOCATION:Fellowship Hall
SUMMARY:Dad's Digging Deeper
URL;VALUE=URI:https://willow-springs.org/events/dads-digging-deeper/2026-10
 -28
ATTACH;FILENAME=What-Bible.png;FMTTYPE=image/png:https://dq5pwpg1q8ru0.clou
 dfront.net/2025/11/20/16/54/01/1a6c4bcf-f919-4a97-b05c-2d46e3c9d8b0/What-B
 ible.png
END:VEVENT
END:VCALENDAR
