BEGIN:VCALENDAR
VERSION:2.0
PRODID:icalendar-ruby
CALSCALE:GREGORIAN
METHOD:PUBLISH
BEGIN:VEVENT
DTSTAMP:20260420T021602Z
UID:31-724623@willow-springs.org
DTSTART:20261015T020000Z
DTEND:20261015T030000Z
CLASS:PUBLIC
CREATED:20260419T161415
DESCRIPTION:
LAST-MODIFIED:20260419T161415
LOCATION:Kindred Heart Classroom
SUMMARY:Women of Willow
URL;VALUE=URI:https://willow-springs.org/events/women-of-willow/2026-10-14
ATTACH;FILENAME=Women-of-Willow-Logo-16x9-%28Presentation%29.png;FMTTYPE=im
 age/png:https://dq5pwpg1q8ru0.cloudfront.net/2025/11/20/16/45/12/620cd37a-
 0fc2-41a4-8bf9-92e4100e5ccd/Women-of-Willow-Logo-16x9-%2528Presentation%25
 29.png
END:VEVENT
END:VCALENDAR
